Workbook
Name Altissimo: Parametri!$B$27:$C$29
Name Alto: Parametri!$B$30:$C$30
Name attivita: [1]Parametri!$D$11:$D$13
Name attività: [1]Parametri!$B$11:$B$12
Name Direzione: !#REF!
Name impatto: [1]Parametri!$D$18:$D$19
Name Medio: Parametri!$B$31:$C$31
Name probabilita: [1]Parametri!$B$18:$B$22
Name Profilo_dirigente: [2]Foglio1!$B$2:$B$6
Name Profilo_dirigente: [2]Foglio1!$B$2:$B$6
Name Profilo_dirigente: !#REF!
Name responsabilità: [1]Parametri!$B$3:$B$8
Name risultato: [1]Parametri!$F$18:$F$20
Name soggetti: Parametri!$B$3:$B$12
Name Struttura: !#REF!
Name Tipo_relazione: !#REF!
Name tipologiaattivita: Parametri!$I$4:$I$10
Name ufficio: !#REF!
Name ufficio_di_destinazione: [3]parametri!$A$2:$A$34

Sheet Sezione_generale
A1: AREE DI RISCHIO | D1: PROCESSI
A3: GENERALI | B3: C-A | C3: Acquisizione e gestione del personale: CONCORSI E SELEZIONI | D3: 1 | E3: Svolgimento di concorsi pubblici
D4: 2 | E4: Gestione benefici contrattuali (per es. Riconoscimento permessi e buoni pasto)
D5: 3 | E5: Pagamento lavoro straordinario
D6: 4 | E6: Rilevamento presenze
D7: 5 | E7: Premi retributivi e progressione economiche o di carriera
D8: 6 | E8: Conferimento di incarichi di collaborazione
D9: 7 | E9: Attingimento da graduatoria di altri Enti
D10: 8 | E10: Mobilità volontaria
B11: C-B | C11: Contratti pubblici | D11: 1 | E11: Affidamenti diretti
D12: 2 | E12: Programmazione
D13: 3 | E13: Progettazione gara
D14: 4 | E14: Selezione del contraente
D15: 5 | E15: Verifica, aggiudicazione e stipula contratto
D16: 6 | E16: Esecuzione e rendicontazione del contratto
D17: 7 | E17: Gestione fondi PNRR
B18: C-C | C18: Provvedimenti ampliativi della sfera giuridica dei destinatari PRIVI di effetto economico diretto ed immediato per il destinatario: AUTORIZZAZIONI E CONCESSIONI | D18: 1 | E18: Iscrizione, trasferimento, cancellazione
D19: 2 | E19: Rilascio di certificazioni e attestazioni
B20: C-D | C20: Provvedimenti ampliativi della sfera giuridica dei destinatari CON effetto economico diretto ed immediato per il destinatario: CONTRIBUTI E SOVVENZIONI | D20: 1 | E20: Erogazione di sovvenzioni e contributi
D21: 2 | E21: Erogazione liberali enti, associazioni, federazioni, Coordinamento, Consulte, Fondazioni
A22: SPECIFICHE | B22: S-A | C22: Formazione professionale continua | D22: 1 | E22: Esame e valutazione delle offerte formative
D23: 2 | E23: Attribuzione dei crediti formativi professionali (CFP) agli iscritti
D24: 3 | E24: Vigilanza sugli “enti terzi” autorizzati all’erogazione della formazione ai sensi dell’art. 7, co. 2, d.p.r. 137 del 2012, svolta in proprio dagli ordini e collegi territoriali
D25: 4 | E25: Organizzazione e svolgimento di eventi formativi da parte degli ordini e collegi territoriali
B26: S-B | C26: Rilascio di pareri di congruità | D26: 1 | E26: Adozione di pareri di congruità sui corrispettivi per le prestazioni professionali
B27: S-C | C27: Indicazione dei professionisti per lo svolgimento di incarichi | D27: 1 | E27: Nomina di professionisti a cui conferire incarichi
C28: Valutazione consiliare con individuazione terna di professionisti | D28: 2 | E28: Valutazione consiliare
A30: CATEGORIE DI MISURE GENERALI E SPECIFICHE | E30: INDICATORI DI MONITORAGGIO
A31: Ciascuna categoria di misura può dar luogo a misure sia generali che specifiche | C31: controllo | E31: numero di controlli effettuati su numero di pratiche/provvedimenti/etc
C32: trasparenza | E32: presenza o meno di un determinato atto/dato/informazione oggetto di pubblicazione
C33: definizione e promozione dell’etica e di standard di comportamento | E33: numero di partecipanti a un determinato corso su numero soggetti interessati
C34: regolamentazione | E34: risultanze sulle verifiche di apprendimento (risultato dei test su risultato atteso)
C35: semplificazione | E35: numero di incarichi/pratiche ruotate sul totale
C36: formazione | E36: verifica adozione di un determinato regolamento/procedura
C37: sensibilizzazione e partecipazione
C38: rotazione
C39: segnalazione e protezione
C40: disciplina del conflitto di interessi
C41: regolazione dei rapporti con i “rappresentanti di interessi particolari” (lobbies)
A43: INDICATORI DI STIMA DEL LIVELLO DI RISCHIO | E43: CLASSIFICAZIONE DEI LIVELLI DI RISCHIO - RATING (secondo il criterio generale di prudenza)
...

Sheet Sezione_generale_old
B1: Sezione I: INFORMAZIONI DI CARATTERE GENERALE
B2: Denominazione Ufficio (Selezione da menù a tendina)
B3: Nominativo Dirigente (Si alimenta automaticamente all'immissione della denominazione Ufficio) | C3: =VLOOKUP(C2,#REF!,3,0) -> #REF!
B4: Profilo dirigente
B5: Descrizione delle funzioni svolte dall'ufficio (Si alimenta automaticamente all'immissione della denominazione Ufficio) | C5: =VLOOKUP(C2,#REF!,2) -> #REF!

Sheet Registro rischi
G2: Valori probabilità: | H2: MOLTO BASSA: oltre 4 punti | I2: BASSA: 4 punti | J2: MEDIA: fino a 3 punti | K2: ALTA: 2 punti | L2: ALTISSIMA: 1 oppure 0 punti
B3: REGISTRO DEI RISCHI CON GIUDIZIO DI RISCHIOSITA’ | G3: Valori impatto: | H3: ALTO: fino a 2 punti | I3: ALTISSIMO: oltre 2 punti
A4: MAPPATURA | B4: AREA DI RISCHIO | D4: VALORE PROBABILITÀ | E4: VALORE IMPATTO | F4: GIUDIZIO DI RISCHIOSITA’ | G4: indicatori della probabilità
A5: C-A | B5: Acquisizione e gestione del personale | C5: Svolgimento di concorsi pubblici | D5: =Q7 -> molto basso | E5: =Q11 -> alto | F5: medio | G5: Processo definito con decisione collegiale | H5: Processo regolato da normativa esterna | I5: Processo regolato da autoregolamentazione | J5: Processo soggetto a controllo finale di un soggetto terzo (revisori, assemblea degli iscritti, Ministero competente, CN) | K5: Processo senza effetti economici per l’Ordine | L5: Processo senza effetti economici per i terzi | M5: Processo gestito da consigliere con delega specifica | N5: Processo del cui svolgimento viene data trasparenza sul sito istituzionale
G7: 1 | H7: 1 | J7: 1 | L7: 1 | M7: 1 | N7: 1 | P7: =SUM(G7:N7) -> 6 | Q7: molto basso
G8: indicatori dell'impatto
G9: Lo svolgimento del processo coinvolge l’intero Consiglio dell’Ordine e i dipendenti | H9: Lo svolgimento coinvolge, in forza di delega, solo i ruoli apicali | I9: Esistenza negli ultimi 5 anni di procedimenti contabili, penali, amministrativi, amministrativi a carico dei Consiglieri costituenti il Consiglio al momento della valutazione | J9: Esistenza negli ultimi 5 anni di procedimenti giudiziari, civili, amministrativi a carico dei dipendenti dell’Ordine | K9: Esistenza di notizie circostanziate (stampa/ relative a illeciti commessi da Consiglieri dell’Ordine o dall’Ordine | L9: Esistenza di procedimenti disciplinare a carico di Consiglieri dell’Ordine costituenti il Consiglio al momento della valutazione | M9: Esistenza di condanne di risarcimento a carico dell’Ordine | N9: Commissariamento dell’Ordine negli ultimi 5 anni | O9: Il processo non è mappato
G11: 1 | P11: =SUM(G11:O11) -> 1 | Q11: alto
G12: indicatori della probabilità
C13: Premi retributivi e progressione economiche o di carriera | D13: =Q15 -> basso | E13: =Q19 -> alto | F13: medio | G13: Processo definito con decisione collegiale | H13: Processo regolato da normativa esterna | I13: Processo regolato da autoregolamentazione | J13: Processo soggetto a controllo finale di un soggetto terzo (revisori, assemblea degli iscritti, Ministero competente, CN) | K13: Processo senza effetti economici per l’Ordine | L13: Processo senza effetti economici per i terzi | M13: Processo gestito da consigliere con delega specifica | N13: Processo del cui svolgimento viene data trasparenza sul sito istituzionale
G15: 1 | H15: 1 | I15: 1 | N15: 1 | P15: =SUM(G15:N15) -> 4 | Q15: =IF(P15>=4,"basso",IF(P15=3,"medio",IF(P15<=2,"alto"))) -> basso
G16: indicatori dell'impatto
G17: Lo svolgimento del processo coinvolge l’intero Consiglio dell’Ordine e i dipendenti | H17: Lo svolgimento coinvolge, in forza di delega, i ruoli apicali | I17: Esistenza negli ultimi 5 anni di procedimenti contabili, penali, amministrativi, amministrativi a carico dei Consiglieri costituenti il Consiglio al momento della valutazione | J17: Esistenza negli ultimi 5 anni di procedimenti giudiziari, civili, amministrativi a carico dei dipendenti dell’Ordine | K17: Esistenza di notizie circostanziate (stampa/ relative a illeciti commessi da Consiglieri dell’Ordine o dall’Ordine | L17: Esistenza di procedimenti disciplinare a carico di Consiglieri dell’Ordine costituenti il Consiglio al momento della valutazione | M17: Esistenza di condanne di risarcimento a carico dell’Ordine | N17: Commissariamento dell’Ordine negli ultimi 5 anni | O17: Il processo non è mappato
G19: 1 | P19: =SUM(G19:O19) -> 1 | Q19: alto
G20: indicatori della probabilità
C21: Conferimento incarichi di collaborazione | D21: =Q23 -> basso | E21: =Q27 -> alto | F21: =IF(AND(D21="basso",E21="basso"),"basso",IF(AND(D21="basso",E21="medio"),"basso",IF(AND(D21="basso",E21="alto"),"medio",IF(AND(D21="medio",E21="basso"),"basso",IF(AND(D21="medio",E21="medio"),"medio",IF(AND(D21="medio",E21="alto"),"alto",IF(AND(D21="alto",E21="basso"),"medio",IF(AND(D21="alto",E21="medio"),"alto",IF(AND(D21="alto",E21="alto"),"alto"))))))))) -> medio | G21: Processo definito con decisione collegiale | H21: Processo regolato da normativa esterna | I21: Processo regolato da autoregolamentazione | J21: Processo soggetto a controllo finale di un soggetto terzo (revisori, assemblea degli iscritti, Ministero competente, CN) | K21: Processo senza effetti economici per l’Ordine | L21: Processo senza effetti economici per i terzi | M21: Processo gestito da consigliere con delega specifica | N21: Processo del cui svolgimento viene data trasparenza sul sito istituzionale
G23: 1 | H23: 1 | I23: 1 | N23: 1 | P23: =SUM(G23:N23) -> 4 | Q23: =IF(P23>=4,"basso",IF(P23=3,"medio",IF(P23<=2,"alto"))) -> basso
G24: indicatori dell'impatto
G25: Lo svolgimento del processo coinvolge l’intero Consiglio dell’Ordine e i dipendenti | H25: Lo svolgimento coinvolge, in forza di delega, i ruoli apicali | I25: Esistenza negli ultimi 5 anni di procedimenti contabili, penali, amministrativi, amministrativi a carico dei Consiglieri costituenti il Consiglio al momento della valutazione | J25: Esistenza negli ultimi 5 anni di procedimenti giudiziari, civili, amministrativi a carico dei dipendenti dell’Ordine | K25: Esistenza di notizie circostanziate (stampa/ relative a illeciti commessi da Consiglieri dell’Ordine o dall’Ordine | L25: Esistenza di procedimenti disciplinare a carico di Consiglieri dell’Ordine costituenti il Consiglio al momento della valutazione | M25: Esistenza di condanne di risarcimento a carico dell’Ordine | N25: Commissariamento dell’Ordine negli ultimi 5 anni | O25: Il processo non è mappato
G27: 1 | K27: 1 | P27: =SUM(G27:O27) -> 2 | Q27: alto
F29: Motivazione Giudizio Medio attribuito | G29: Le procedure relative al personale sono gestite nel rispetto delle indicazioni normative di cui al DLGS n. 165/2001 e DPR 487/1994. Il PTFP è adottato con delibera collegiale, sottoposto a parere del tesoriere e del Revisore e ad approvazione del CN e DFP
D31: VALORE PROBABILITÀ | E31: VALORE IMPATTO | F31: GIUDIZIO DI RISCHIOSITA’ | G31: indicatori della probabilità
A32: CB | B32: Affidamento di lavori, servizi e forniture/Contratti pubblici | C32: Individuazione bisogno (programmazione) | D32: =Q34 -> molto bassa | E32: =Q38 -> altissima | F32: medio | G32: Processo definito con decisione collegiale | H32: Processo regolato da normativa esterna | I32: Processo regolato da autoregolamentazione | J32: Processo soggetto a controllo finale di un soggetto terzo (revisori, assemblea degli iscritti, Ministero competente, CN) | K32: Processo senza effetti economici per l’Ordine | L32: Processo senza effetti economici per i terzi | M32: Processo gestito da consigliere con delega specifica | N32: Processo del cui svolgimento viene data trasparenza sul sito istituzionale
G34: 1 | H34: 1 | I34: 1 | K34: 1 | L34: 1 | N34: 1 | P34: =SUM(G34:N34) -> 6 | Q34: molto bassa
G35: indicatori dell'impatto
G36: Lo svolgimento del processo coinvolge l’intero Consiglio dell’Ordine e i dipendenti | H36: Lo svolgimento coinvolge, in forza di delega, i ruoli apicali | I36: Esistenza negli ultimi 5 anni di procedimenti contabili, penali, amministrativi, amministrativi a carico dei Consiglieri costituenti il Consiglio al momento della valutazione | J36: Esistenza negli ultimi 5 anni di procedimenti giudiziari, civili, amministrativi a carico dei dipendenti dell’Ordine | K36: Esistenza di notizie circostanziate (stampa/ relative a illeciti commessi da Consiglieri dell’Ordine o dall’Ordine | L36: Esistenza di procedimenti disciplinare a carico di Consiglieri dell’Ordine costituenti il Consiglio al momento della valutazione | M36: Esistenza di condanne di risarcimento a carico dell’Ordine | N36: Commissariamento dell’Ordine negli ultimi 5 anni | O36: Il processo non è mappato
G38: 1 | P38: =SUM(G38:O38) -> 1 | Q38: altissima
G39: indicatori della probabilità
C40: Individuazione affidatario (selezione del contraente) | D40: =Q42 -> alta | E40: =Q46 -> alto | F40: alto | G40: Processo definito con decisione collegiale | H40: Processo regolato da normativa esterna | I40: Processo regolato da autoregolamentazione | J40: Processo soggetto a controllo finale di un soggetto terzo (revisori, assemblea degli iscritti, Ministero competente, CN) | K40: Processo senza effetti economici per l’Ordine | L40: Processo senza effetti economici per i terzi | M40: Processo gestito da consigliere con delega specifica | N40: Processo del cui svolgimento viene data trasparenza sul sito istituzionale
G42: 1 | H42: 1 | P42: =SUM(G42:N42) -> 2 | Q42: alta
G43: indicatori dell'impatto
G44: Lo svolgimento del processo coinvolge l’intero Consiglio dell’Ordine e i dipendenti | H44: Lo svolgimento coinvolge, in forza di delega, i ruoli apicali | I44: Esistenza negli ultimi 5 anni di procedimenti contabili, penali, amministrativi, amministrativi a carico dei Consiglieri costituenti il Consiglio al momento della valutazione | J44: Esistenza negli ultimi 5 anni di procedimenti giudiziari, civili, amministrativi a carico dei dipendenti dell’Ordine | K44: Esistenza di notizie circostanziate (stampa/ relative a illeciti commessi da Consiglieri dell’Ordine o dall’Ordine | L44: Esistenza di procedimenti disciplinare a carico di Consiglieri dell’Ordine costituenti il Consiglio al momento della valutazione | M44: Esistenza di condanne di risarcimento a carico dell’Ordine | N44: Commissariamento dell’Ordine negli ultimi 5 anni | O44: Il processo non è mappato
G46: 1 | P46: =SUM(G46:O46) -> 1 | Q46: alto
G47: indicatori della probabilità
C48: Conferimento incarico (contrattualizzazione) | D48: =Q50 -> basso | E48: =Q54 -> alto | F48: =IF(AND(D48="basso",E48="basso"),"basso",IF(AND(D48="basso",E48="medio"),"basso",IF(AND(D48="basso",E48="alto"),"medio",IF(AND(D48="medio",E48="basso"),"basso",IF(AND(D48="medio",E48="medio"),"medio",IF(AND(D48="medio",E48="alto"),"alto",IF(AND(D48="alto",E48="basso"),"medio",IF(AND(D48="alto",E48="medio"),"alto",IF(AND(D48="alto",E48="alto"),"alto"))))))))) -> medio | G48: Processo definito con decisione collegiale | H48: Processo regolato da normativa esterna | I48: Processo regolato da autoregolamentazione | J48: Processo soggetto a controllo finale di un soggetto terzo (revisori, assemblea degli iscritti, Ministero competente, CN) | K48: Processo senza effetti economici per l’Ordine | L48: Processo senza effetti economici per i terzi | M48: Processo gestito da consigliere con delega specifica | N48: Processo del cui svolgimento viene data trasparenza sul sito istituzionale
G50: 1 | H50: 1 | M50: 1 | N50: 1 | P50: =SUM(G50:N50) -> 4 | Q50: =IF(P50>=4,"basso",IF(P50=3,"medio",IF(P50<=2,"alto"))) -> basso
G51: indicatori dell'impatto
G52: Lo svolgimento del processo coinvolge l’intero Consiglio dell’Ordine e i dipendenti | H52: Lo svolgimento coinvolge, in forza di delega, i ruoli apicali | I52: Esistenza negli ultimi 5 anni di procedimenti contabili, penali, amministrativi, amministrativi a carico dei Consiglieri costituenti il Consiglio al momento della valutazione | J52: Esistenza negli ultimi 5 anni di procedimenti giudiziari, civili, amministrativi a carico dei dipendenti dell’Ordine | K52: Esistenza di notizie circostanziate (stampa/ relative a illeciti commessi da Consiglieri dell’Ordine o dall’Ordine | L52: Esistenza di procedimenti disciplinare a carico di Consiglieri dell’Ordine costituenti il Consiglio al momento della valutazione | M52: Esistenza di condanne di risarcimento a carico dell’Ordine | N52: Commissariamento dell’Ordine negli ultimi 5 anni | O52: Il processo non è mappato
G54: 1 | H54: 1 | P54: =SUM(G54:O54) -> 2 | Q54: alto
G55: indicatori della probabilità
...

Sheet Mappatura processi C-A
A1: Mappatura PROCESSI-ATTIVITA | I1: Identificazione, analisi e valutazione del rischio corruttivo | N1: TRATTAMENTO DEL RISCHIO
A2: AREA DI RISCHIO | B2: N. PROCESSO | C2: DESCRIZIONE PROCESSO | D2: N_Attività | E2: DESCRIZIONE ATTIVITA' | F2: Esecutore Azione (in ogni cella è presente un menù a tendina) | G2: Attività vincolata vs attività discrezionale | H2: Tipologia di attività (Disciplinata da /*scelta da menù a tendina*/) | I2: DESCRIZIONE DEL COMPORTAMENTO A RISCHIO CORRUZIONE (EVENTO A RISCHIO) | J2: FATTORI ABILITANTI L'EVENTO RISCHIOSO | K2: VALUTAZIONE DEL RISCHIO | N2: MISURE GIA' ADOTTATE | O2: MISURE SPECIFICHE | P2: TIPOLOGIA MISURE SPECIFICHE | Q2: PROGRAMMAZIONE MISURA SPECIFICA
K3: IMPATTO | L3: PROBABILITA' | M3: RISULTATO (IMPATTO x PROBABILITA') | Q3: STATO DI ATTUAZIONE AL 1° GENNAIO 2026 | R3: TEMPI DI ATTUAZIONE | S3: INDICATORI DI ATTUAZIONE | T3: TEMPI DI MONITORAGGIO | U3: SOGGETTO RESPONSABILE
A4: ACQUISIZIONE E GESTIONE DEL PERSONALE: CONCORSI E SELEZIONE | B4: 1 | C4: Svolgimento di concorsi pubblici = Accesso dall’esterno mediante procedure concorsuali (anche per progressioni verticali) | D4: 1.1 | E4: Individuazione del fabbisogno del personale | F4: Consiglio | G4: Vincolata | H4: Normativa | I4: Insussistenza del fabbisogno reale o mancanza della copertura economica per nuove acquisizioni | J4: mancanza di trasparenza mancanza di controlli relativi agli eventi rischiosi | K4: Alto | L4: Molto bassa | M4: Medio | N4: Trasparenza tramite comunicazione a CN e DFP Condivisione con Tesoriere e Collegio Revisori Adozione di una specifica delibera ricognitiva delle eccedenze del personale e/o Piano dei fabbisogni | O4: NI | P4: NI | Q4: già attuata | R4: Annuale | S4: verifica adozione - riscontro CN/DFP | T4: Annuale | U4: Consiglio
D5: 1.2 | E5: Valutazione della modalità di reclutamento | F5: Consiglio | G5: Discrezionale | H5: Normativa | I5: Modalità non conforme ai principi del D.Lgs. 165/2001 | J5: mancanza di trasparenza | N5: Decisione collegiale | O5: NA | P5: NA | Q5: già attuata | R5: NA | S5: NA | T5: NA | U5: NA
D6: 1.3 | E6: Predisposizione del bando di concorso e/o avvisi di selezione | F6: Presidente | G6: Discrezionale | H6: Normativa | I6: Previsione di requisiti di accesso "personalizzati" ed insufficienza di meccanismi oggettivi e trasparenti idonei a verificare il possesso dei requisiti attitudinali e professionali richiesti in relazione alla posizione da ricoprire allo scopo di reclutare candidati particolari | J6: mancanza di trasparenza mancanza di controlli relativi agli eventi rischiosi | N6: Decisione collegiale Procedura scritta (bando di concorso) | O6: Trasparenza tramite Pubblicazione in AT Impiego di un team di lavoro più che di risorse individuali su temi particolarmente complessi (supporto consulenze specialistiche) | P6: DI TRASPARENZA DI SENSIBILIZZAZIONE E PARTECIPAZIONE | Q6: in attuazione | R6: nel corso del triennio | S6: Pubblicazione sul sito | T6: Annuale | U6: Consiglio
D7: 1.4 | E7: Nomina commissione esaminatrice | F7: Consiglio | G7: Discrezionale | H7: Normativa/ Regolamento interno dell’Ufficio | I7: Scelta dei Commissari al fine di favorire uno o più candidati predenterminati Omessa raccolta o verifica delle dichiarazioni dei Commissari sulla assenza di conflitto di interessi all'esito della consultazione della lista dei candidati | J7: mancanza di trasparenza | N7: Decisione collegiale | O7: Adozione/aggiornamento dei criteri per l'individuazione dei Commissari Acquisizione e verifica dichiarazioni: 1. Verifica a campione da parte del RPCT sul rilascio delle dichiarazione in sede di insediamento della commissione 2. Verifica sul contenuto di tutte le dichiarazioni, in sede di insediamento della commissione 3. Utilizzo di apposita modulistica per il rilascio delle dichiarazioni di assenza dei conflitti d'interesse | P7: DI REGOLAMENTAZIONE DI CONTROLLO | Q7: in attuazione | R7: nel corso del triennio | S7: Adozione atto regolatorio Verifica a campione | T7: Annuale | U7: Consiglio
D8: 1.5 | E8: Svolgimento delle prove concorsuali e valutazione dei titoli | F8: Consiglio | G8: Discrezionale | H8: Normativa/ Regolamento interno dell’Ufficio | I8: Svolgimento della prova orale in mancanza di testimoni | J8: mancanza di trasparenza | N8: Verifica collegiale | O8: Previsione dell'obbligo della presenza di almeno due testimoni durante lo svolgimento della prova orale, da reclutare eventualmente anche tra i dipendenti dell'ente | P8: DI CONTROLLO | Q8: in attuazione | R8: In occasione di ogni procedura selettiva | S8: n. di prove orali svolte alla presenza di testimoni/totale delle prove orali svolte | T8: Nel triennio | U8: Presidente
D9: 1.6 | E9: Approvazione della graduatoria | F9: Consiglio | G9: Vincolata | H9: Normativa | I9: Ingerenze esterne nel processo formativo della graduatoria all'esito della prova orale e/o ritardata pubblicazione dell'esito della prova orale | J9: mancanza di trasparenza mancanza di controlli relativi agli eventi rischiosi | N9: Decisione collegiale | O9: Previsione dell'obbligo di pubblicazione dell'esito della prova orale tempestivamente, e comunque non oltre il termine della giornata di svolgimento della prova in linea con le previsioni di cui all'art. 19 dlgs 33/2013 che impone la pubblicazione tempestiva di tutti gli atti della procedura | P9: DI TRASPARENZA | Q9: in attuazione | R9: in occasione di ogni procedura selettiva | S9: Pubblicazione degli esiti della prova orale nei termini (si/no) | T9: Nel triennio | U9: Presidente
B10: 2 | C10: Gestione benefici contrattuali (per es. Riconoscimento permessi) | D10: 2.1 | E10: Valutazione delle istanze ai fini del riconoscimento | F10: Presidente | G10: discrezionale | H10: Normativa/ Regolamento interno dell’Ufficio | I10: Insufficienza di meccanismi oggettivi e trasparenti di valutazione allo scopo di favorire dipendenti particolari | J10: esercizio prolungato ed esclusivo della responsabilità di un processo da parte di pochi o di un unico soggetto | K10: Alto | L10: Bassa | M10: Medio | N10: Decisione collegiale Riunioni periodiche tra dirigente/consigliere e personale dell'ufficio per finalità di condivisione ed aggiornamento delle attività in corso | O10: NA | P10: NA | Q10: già attuata | R10: NA | S10: NA | T10: NA | U10: NA
B11: 3 | C11: Pagamento lavoro straordinario | D11: 3.1 | E11: Liquidazione importo | F11: Presidente | G11: discrezionale | H11: Normativa | I11: Riconoscimento importi non dovuti | J11: esercizio prolungato ed esclusivo della responsabilità di un processo da parte di pochi o di un unico soggetto | K11: Altissimo | L11: Molto bassa | M11: Medio | N11: Verifica dell'avvio dell'istruttoria a cura del dirigente/consigliere Riunioni periodiche tra dirigente/consigliere e personale dell'ufficio per finalità di condivisione ed aggiornamento delle attività in corso | O11: Informatizzazione del processo istruttorio e/o utilizzo di un gestionale per il monitoraggio delle attività | P11: DI SEMPLIFICAZIONE | Q11: in attuazione | R11: NA | S11: NA | T11: NA | U11: NA
B12: 4 | C12: Rilevamento presenze | D12: 4.1 | E12: Gestione conteggio ore | F12: Presidente | G12: discrezionale | H12: Normativa/ Regolamento interno dell’Ufficio | I12: Presenze erroneamente rilevate per favorire dipendenti particolari | J12: mancanza di controlli relativi agli eventi rischiosi | K12: Altissimo | L12: Molto bassa | M12: Medio | N12: Report periodici al Consiglio | O12: Informatizzazione del processo istruttorio e/o utilizzo di un gestionale per il monitoraggio delle attività Trasparenza tramite Pubblicazione in AT | P12: DI SEMPLIFICAZIONE DI TRASPARENZA | Q12: in attuazione | R12: nel corso del triennio | S12: numero di controlli effettuati su numero di pratiche/provvedimenti/etc | T12: a campione | U12: Consiglio
B13: 5 | C13: Premi retributivi e progressione economiche o di carriera | D13: 5.1 | E13: Riconoscimento premio/valutazione modalità | F13: Consiglio | G13: discrezionale | H13: Normativa | I13: progressioni economiche o di carriera accordate illegittimamente allo scopo di agevolare dipendenti/candidati particolari Omessa o scarsa predeterminazione di criteri e limiti al conferimento delle progressioni di carriera al fine di favorire determinati dipendenti | J13: mancanza di trasparenza | K13: Alto | L13: Bassa | M13: Medio | N13: Trasparenza tramite Pubblicazione in AT Decisione collegiale Riunioni periodiche tra dirigente/consigliere e personale dell'ufficio per finalità di condivisione ed aggiornamento delle attività Inserimento della programmazione delle progressioni veriticali nel Piano dei Fabbisogni Previsione di criteri predefiniti che limitino la discrezionalità dell'Ente, quali titoli di servizio, titoli di studio e anzianità di servizio, facendo sì che nessun criterio sia in assoluto preminente sull'altro in corso | O13: Contrattazione integrativa/procedura di valutazione Verifica da parte del RPCT dell'individuazione dei criteri per le progressioni orizzontali nell'ambito della contrattazione decentrata | P13: DI REGOLAMENTAZIONE DI CONTROLLO | Q13: in attuazione | R13: nel corso del triennio | S13: verifica adozione di un determinato regolamento/procedura | T13: Annuale | U13: Presidente
B14: 6 | C14: Conferimento di incarichi di collaborazione | D14: 6.1 | E14: Individuazione del professionista | F14: Consiglio | G14: discrezionale | H14: Normativa/ Regolamento interno dell’Ufficio | I14: motivazione generica e tautologica circa la sussistenza dei presupposti di legge per il conferimento di incarichi professionali allo scopo di agevolare soggetti particolari Mancata o carente definizione dei criteri e delle procedure per l'affidamento degli incarichi Mancata verifica circa l'assenza di motivi di incompatibilità previsti dalla legge ovvero legati ad interessi di qualunque natura con riferimento all’incaricato individuato e all’oggetto dell’incarico | J14: mancanza di trasparenza | K14: Alto | L14: Bassa | M14: Medio | N14: Verifica Conflitto interessi Trasparenza tramite Pubblicazione in AT | O14: Implementazione piattaforma PerlaPa e valutazione CV Adozione procedura/regolamento per l'affidamento di incarichi | P14: DI TRASPARENZA DI REGOLAMENTAZIONE | Q14: in attuazione | R14: 46203 | S14: Pubblicazione sul sito Verifica adozione di un determinato regolamento/procedura | T14: Semestrale | U14: Consiglio
B15: 7 | C15: Attingimento da graduatoria di altri Enti | D15: 7.1 | F15: Consiglio | G15: discrezionale | H15: Normativa/ Regolamento interno dell’Ufficio | I15: Individuazione pilotata della graduatoria per condizionare la scelta del candidato da assumere | J15: mancanza di controlli relativi agli eventi rischiosi | N15: Utilizzo INPA | O15: Previsione di una disposizione in atto interno che stabilisca i criteri di selezione della graduatoria di altri enti da cui attingere, secondo un ordine di priorità oggettivo e predeterminato (es.enti della Provincia e in subordine della Regione di riferimento; la distanza kilometrica dal capoluogo) | P15: DI REGOLAMENTAZIONE | Q15: in attuazione | R15: nel corso del triennio | S15: Inserimento della disposizione regolamentare (si/no) | T15: Annuale | U15: Consiglio
B16: 8 | C16: Mobilità volontaria | D16: 8.1 | F16: Consiglio | G16: vincolata | H16: Normativa | I16: Omessa o scarsa previsione nel bando/avviso di criteri oggettivi predeterminati rispetto alle effettive esigenze dell'ente anche al fine di favorire candidati prederminati | J16: mancanza di controlli relativi agli eventi rischiosi | N16: Utilizzo INPA | O16: Verifica a campione da parte del RPCT della previsione nel bando/avviso di criteri oggettivi predeterminati rispetto alle effettive esigenze dell'ente anche sulla base del piano dei fabbisogni | P16: DI CONTROLLO | Q16: in attuazione | R16: in occasione di ogni procedura di mobilità | S16: n. bandi/avvisi contenenti criteri oggettivi predeterminati rispetto alle effettive esigenze dell'ente oggetto del campione /n. totale bandi/avvisi | T16: Annuale | U16: Consiglio
F18: Azioni riconducibili ad attività di altri o a soggetti esterni
B19: Azioni riconducibili ad attività di altri | F19: Non Applicabile
F20: Non Individuata

Sheet Mappatura processi C-B
A1: Mappatura PROCESSI-ATTIVITA' | I1: Identificazione, analisi e valutazione del rischio corruttivo | N1: TRATTAMENTO DEL RISCHIO
A2: AREA DI RISCHIO | B2: N. PROCESSO | C2: DESCRIZIONE PROCESSO | D2: N_Attività | E2: DESCRIZIONE ATTIVITA' | F2: Esecutore Azione (in ogni cella è presente un menù a tendina) | G2: Attività vincolata vs attività discrezionale | H2: Tipologia di attività (Disciplinata da /*scelta da menù a tendina*/) | I2: DESCRIZIONE DEL COMPORTAMENTO A RISCHIO CORRUZIONE (EVENTO A RISCHIO) | J2: FATTORI ABILITANTI L'EVENTO RISCHIOSO | K2: VALUTAZIONE DEL RISCHIO | N2: MISURE GIA' ADOTTATE | O2: MISURE SPECIFICHE | P2: TIPOLOGIA MISURE SPECIFICHE | Q2: PROGRAMMAZIONE MISURA SPECIFICA
K3: IMPATTO | L3: PROBABILITA' | M3: RISULTATO (IMPATTO x PROBABILITA') | Q3: STATO DI ATTUAZIONE AL 1° GENNAIO 2026 | R3: TEMPI DI ATTUAZIONE | S3: INDICATORI DI ATTUAZIONE | T3: TEMPI DI MONITORAGGIO | U3: SOGGETTO RESPONSABILE
A4: CONTRATTI PUBBLICI | B4: 1 | C4: Affidamento diretto | D4: 1.1 | E4: Scelta dell'OE | F4: Consiglio | G4: discrezionale | H4: Prassi dell’Ufficio | I4: Possibile incremento del rischio di frazionamento artificioso oppure che il calcolo del valore stimato dell’appalto sia alterato in modo tale da non superare il valore previsto per l’affidamento diretto Possibili affidamenti ricorrenti al medesimo operatore economico della stessa tipologia di Common procurement vocabulary (CPV), quando, in particolare, la somma di tali affidamenti superi la soglia di 140 mila euro Mancata rotazione degli operatori economici, secondo il criterio dei successivi due affidamenti ex art. 49, commi 2 e 4 del Codice, chiamati a partecipare | J4: mancanza di trasparenza - scarsa responsabilizzazione interna - inadeguatezza o assenza di competenze del personale addetto ai processi - inadeguata diffusione della cultura della legalità | K4: Alto | L4: Alta | M4: Alto | N4: Modelli dichiarazioni assenza conflitto interessi Utilizzo di clausole standard conformi alla normativa per garantire la tracciabilità dei pagamenti e la risoluzione dei contratti in caso di gravi inosservanze /per es. rispetto al codice di comportamento o ai patti di integrità Obbligo di indicazione nella determina a contrarre dell'importo stimato o presunto del contratto | O4: Verifica da parte della struttura di auditing o di altro soggetto appositamente individuato all’interno della SA circa la corretta attuazione del principio di rotazione Analisi di tutti gli affidamenti il cui importo è appena inferiore alla soglia minima a partire dalla quale non si potrebbe più ricorrere all’affidamento diretto Analisi degli operatori economici per verificare quelli che in un determinato arco temporale risultano come gli affidatari più ricorrenti Analisi, in base al Common procurement vocabulary (CPV), degli affidamenti posti in essere al fine di verificare se gli operatori economici aggiudicatari siano sempre i medesimi e se gli affidamenti della stessa natura siano stati artificiosamente frazionati Formazione specialistica sulle tematiche di competenza | P4: DI CONTROLLO DI FORMAZIONE | Q4: da attuare | R4: 46387 | S4: Verifica a campione affidamenti in deroga dal valore appena inferiore alla soglia minima | T4: Annuale | U4: Tesoriere/RUP
B5: 2 | C5: Programmazione | D5: 2.1 | E5: Programmazione fabbisogno con delibera di pianificazione/programmazione/relazione progettuale semplificata | F5: Consiglio | G5: discrezionale | H5: Normativa/ Regolamento interno dell’Ufficio | I5: •Alterazione del fabbisogno effettivo per favorire operatori economici •Definizione di un fabbisogno non rispondente ai criteri di efficienza/ efficacia/economicità Possibile alterazione dei valori stimati per gli affidamenti, con conseguente frazionamento, al fine di non superare le soglie di cui all'art. 14 del dl.vo 36/2023 o del valore stimato e/o frazionamento della concessione effettuata con l’intenzione di escludere tale concessione dall’ambito di applicazione del codice. | J5: mancata attuazione del principio di distinzione tra politica e amministrazione | K5: Altissimo | L5: Molto bassa | M5: Medio | N5: Decisione di Consiglio quando vengono riscontrate le necessità Per affidamenti superiori a 140.000: applicazione del Codice dei Contratti Per affidamenti di importo inferiore a 140,000: valutazione consiliare del fabbisognovalutazione economica e verifica disponibilità di bilancio | O5: Adozione programmazione/pianificazione e/o regolamento interno Audit interni su fabbisogno e/o adozione di procedure tracciate per la rilevazione dei fabbisogni Obbligo di documentare il calcolo del valore stimato del contratto | P5: DI REGOLAMENTAZIONE DI CONTROLLO | Q5: attuata | R5: 46387 | S5: Verifica adozione di un determinato regolamento/procedura Pubblicazione sul sito | T5: Annuale | U5: Tesoriere/RUP
B6: 3 | C6: Progettazione della gara | D6: 3.1 | E6: Predisposizione degli atti di gara | F6: Consiglio | G6: discrezionale | H6: Normativa/ Regolamento interno dell’Ufficio | I6: Scelta della strategia di acquisizione in elusione delle regole di affidamento del contratto (ad esempio, concessione in luogo di appalto o procedure negoziate e affidamenti diretti tesi a selezionare uno specifico operatore, scelte tecniche finalizzate a restringere la concorrenza) Gestione del conflitto di interessi in fase di progettazione dell'affidamento Ricorso a proroghe e rinnovi non consentiti e/o in assenza dei presupposti. Ricorso a rinnovo tacito, ovvero il rinnovo effettuato senza emanazione di un provvedimento espresso, inammissibile nel nostro ordinamento | J6: mancanza di controlli relativi agli eventi rischiosi | K6: Alto | L6: Bassa | M6: Medio | N6: Utilizzo di sistemi informatizzati/PAD Obbligo di motivazione nella determina a contrarre in ordine sia alla scelta della procedura sia alla scelta del sistema di affidamento adottato ovvero alla tipologia contrattuale Modelli dichiarazioni assenza conflitto interessi Utilizzo di clausole standard conformi alla normativa per garantire la tracciaibilità dei pagamenti e la risoluzione dei contratti in caso di gravi inosservanze /per es. rispetto al codice di comportamento o ai patti di integrità Obbligo di indicazione nella determina a contrarre dell'importo stimato o presunto del contratto | O6: Ricorso all'indagine di mercato mediante avviso esplorativo Adozione regolamento interno Verifica dell'assolvimento degli obblighi di pubblicazione da parte del RPCT Obbligo di motivazione negli atti di gara sui requisiti richiesti per la partecipazione alla gara / per l'esecuzione dell'appalto /criteri di valutazione e attribuzione di punteggi, con particolare riferimento alle ipotesi di affidamenti diretti "per assenza di concorrenza per motivi tecnici", anche attraverso la previa consultazione del mercato di riferimento, con verifica che tale assenza non sia frutto di limitazioni artificiose dei parametri dell’appalto, ovvero di errate interpretazioni della norma | P6: DI SENSIBILIZZAZIONE E PARTECIPAZIONE DI REGOLAMENTAZIONE | Q6: in attuazione | R6: 46387 | S6: verifica adozione di un determinato regolamento/procedura | T6: Annuale | U6: Tesoriere/RUP
D7: 3.2 | E7: Realizzazione dell'acquisizione secondo la modalità individuata: tramite PAD (RdO - TD- OdA) e senza MEPA (Procedura negoziata e affidamento diretto con o senza preventiva indagine di mercato) | F7: Dirigente-RUP/Consiglio | G7: vincolata | H7: Normativa/ Regolamento interno dell’Ufficio | I7: •Utilizzo improprio di sistemi di affidamento per favorire un operatore. •Predisposizione di clausole contrattuali dal contenuto vago o vessatorio per disincentivare la partecipazione alla gara ovvero per consentire modifiche in fase di esecuzione | J7: inadeguatezza o assenza di competenze del personale addetto ai processi | Q7: in attuazione
D8: 3.3 | E8: Determinazione importo del contratto | F8: Consiglio | G8: vincolata | H8: Normativa/ Regolamento interno dell’Ufficio | I8: Abuso delle disposizioni in materia di determinazione del valore | J8: inadeguata diffusione della cultura della legalità | Q8: in attuazione
B9: 4 | C9: Selezione del contraente | D9: 4.1 | E9: Pubblicazione del bando | F9: Dirigente/Funzionario | G9: discrezionale | H9: Normativa/ Regolamento interno dell’Ufficio | I9: Difficoltà nell'accesso e/o nella consultazione dei documenti on line e assenza di pubblicità del bando e dell'ulteriore documentazione rilevante | J9: mancanza di trasparenza | K9: Alto | L9: Alta | M9: Alto | N9: Trasparenza tramite Pubblicazione in AT Protocollazione informatica Dichiarazioni assenza conflitto interessi | O9: Adozione regolamento interno Verifiche collegiali/Verifiche tramite FVOE | P9: DI REGOLAMENTAZIONE DI CONTROLLO | Q9: in attuazione | R9: 46387 | S9: Verifica adozione di un determinato regolamento/procedura Pubblicazione sul sito | T9: Annuale | U9: Tesoriere/RUP
D10: 4.2 | E10: Fissazione dei termini per la ricezione dell'offerta | F10: Dirigente/Funzionario | G10: discrezionale | H10: Normativa/ Regolamento interno dell’Ufficio | I10: Immotivata indicazione di termini ridotti o di proroghe | J10: inadeguatezza o assenza di competenze del personale addetto ai processi | Q10: in attuazione
D11: 4.3 | E11: Trattamento e custodia della documentazione di gara | F11: Dirigente/Funzionario | G11: discrezionale | H11: Normativa/ Regolamento interno dell’Ufficio | I11: Alterazione/sottrazion e documentale | J11: mancanza di controlli relativi agli eventi rischiosi | Q11: in attuazione
D12: 4.4 | E12: Nomina della commissione di gara | F12: Consiglio | G12: VINCOLATA | H12: Normativa/ Regolamento interno dell’Ufficio | I12: Mancato rispetto delle disposizioni che regolano la nomina della commissione | J12: inadeguata diffusione della cultura della legalità | Q12: in attuazione
D13: 4.5 | E13: Gestione delle sedute di gara | F13: Dirigente-RUP/Consiglio | G13: VINCOLATA | H13: Normativa/ Regolamento interno dell’Ufficio | I13: Falsa applicazione dei criteri di aggiudicazione della gara per manipolarne l'esito | J13: mancanza di controlli relativi agli eventi rischiosi | Q13: in attuazione
D14: 4.6 | E14: Verifica dei requisiti di ordine tecnico ed economico di partecipazione | F14: Dirigente-RUP/Consiglio | G14: VINCOLATA | H14: Normativa/ Regolamento interno dell’Ufficio | I14: Alterazione/sottrazione documentale | J14: mancanza di controlli relativi agli eventi rischiosi | Q14: in attuazione
D15: 4.7 | E15: Valutazione delle offerte e verifica anomalia offerte | F15: Dirigente-RUP | G15: VINCOLATA | H15: Normativa/ Regolamento interno dell’Ufficio | I15: Falsa applicazione dei criteri di aggiudicazione della gara per manipolarne l'esito | J15: inadeguatezza o assenza di competenze del personale addetto ai processi | Q15: in attuazione
B16: 5 | C16: Verifica, aggiudicazione e stipula contratto | D16: 5.1 | E16: Verifica dei requisiti di ordine generale ai fini della stipula del contratto | F16: Dirigente-RUP/Consiglio | G16: VINCOLATA | H16: Normativa/ Regolamento interno dell’Ufficio | I16: •Alterazione o omissione dei controlli e delle verifiche al fine di favorire un aggiudicatario privo di requisiti •Alterazione contenuti verifiche per pretermettere l'aggiudicatario e favorire gli operatori economici che seguono nella graduatoria | J16: inadeguatezza o assenza di competenze del personale addetto ai processi | K16: Alto | L16: Molto bassa | M16: Medio | N16: Controllo Tesoriere/RUP Trasparenza tramite Pubblicazione in AT | O16: Adozione regolamento interno Formazione specialistica sulle tematiche di competenza | P16: DI REGOLAMENTAZIONE DI FORMAZIONE | Q16: in attuazione | R16: 46387 | S16: Verifica adozione di un determinato regolamento/procedura Pubblicazione sul sito | T16: Annuale | U16: Tesoriere/RUP
D17: 5.2 | E17: Effettuazione comunicazioni riguardanti i mancati inviti, le esclusioni e le aggiudicazioni e formalizzazione dell'aggiudicazione definitiva e stipula del contratto | F17: Dirigente/Funzionario | G17: VINCOLATA | H17: Normativa/ Regolamento interno dell’Ufficio | I17: •Immotivato ritardo nella formalizzazione del provvedimento di aggiudicazione e/o stipula del contratto tale da indurre l'aggiudicatario a sciogliersi da ogni vincolo o a recedere dal contratto | J17: inadeguatezza o assenza di competenze del personale addetto ai processi | Q17: in attuazione
B18: 6 | C18: Esecuzione e rendicontazione del contratto | D18: 6.1 | E18: Approvazione modifiche del contratto originario | F18: Dirigente-RUP | G18: discrezionale | H18: Normativa/ Regolamento interno dell’Ufficio | I18: Modifiche sostanziali degli elementi del contratto con introduzione di elementi che se previsti dall'inizio avrebbero consentito un confronto concorrenziale più ampio | J18: mancanza di controlli relativi agli eventi rischiosi | K18: Alto | L18: Bassa | M18: Medio | N18: Controllo Tesoriere/RUP Trasparenza tramite Pubblicazione in AT | O18: Check list propedeutica al mandato di pagamento | P18: DI CONTROLLO | Q18: in attuazione | R18: 46387 | S18: numero di controlli effettuati su numero di pratiche/provvedimenti/etc | T18: Annuale | U18: Tesoriere/RUP
D19: 6.2 | E19: Verifica della corretta esecuzione del contratto | F19: Dirigente-RUP | G19: discrezionale | H19: Normativa/ Regolamento interno dell’Ufficio | I19: Alterazione o omissione attività di controllo | J19: mancanza di controlli relativi agli eventi rischiosi
B20: 7 | C20: Gestione fondi PNRR | D20: 7.1 | E20: Verifica della rendicontazione dei fondi ottenuti | F20: Dirigente-RUP | G20: discrezionale | H20: Normativa/ Regolamento interno dell’Ufficio | I20: Alterazione o omissione attività di controllo | J20: mancanza di controlli relativi agli eventi rischiosi | K20: Alto | L20: Basso | M20: Medio | N20: Controllo Tesoriere/RUP Adozione CIG e CUP | O20: Trasparenza tramite Pubblicazione in AT Pubblicazione Contratto | P20: DI TRASPARENZA DI CONTROLLO | Q20: in attuazione | R20: 46022 | S20: numero di controlli effettuati su numero di pratiche/provvedimenti/etc | T20: Annuale | U20: Tesoriere/RUP
G21: Azioni riconducibili ad attività di altri o a soggetti esterni
C22: Azioni riconducibili ad attività di altri | F22: NA | G22: Non Applicabile
F23: NI | G23: Non Individuata

Sheet Mappatura processi C-C
A1: Mappatura PROCESSI-ATTIVITA' | I1: Identificazione, analisi e valutazione del rischio corruttivo | N1: TRATTAMENTO DEL RISCHIO
A2: AREA DI RISCHIO | B2: N. PROCESSO | C2: DESCRIZIONE PROCESSO | D2: N_Attività | E2: DESCRIZIONE ATTIVITA' | F2: Esecutore Azione (in ogni cella è presente un menù a tendina) | G2: Attività vincolata vs attività discrezionale | H2: Tipologia di attività (Disciplinata da /*scelta da menù a tendina*/) | I2: DESCRIZIONE DEL COMPORTAMENTO A RISCHIO CORRUZIONE (EVENTO A RISCHIO) | J2: FATTORI ABILITANTI L'EVENTO RISCHIOSO | K2: VALUTAZIONE DEL RISCHIO | N2: MISURE GIA' ADOTTATE | O2: MISURE SPECIFICHE | P2: TIPOLOGIA MISURE SPECIFICHE | Q2: PROGRAMMAZIONE MISURA SPECIFICA
K3: IMPATTO | L3: PROBABILITA' | M3: RISULTATO (IMPATTO x PROBABILITA') | Q3: STATO DI ATTUAZIONE AL 1° GENNAIO 2026 | R3: TEMPI DI ATTUAZIONE | S3: INDICATORI DI ATTUAZIONE | T3: TEMPI DI MONITORAGGIO | U3: SOGGETTO RESPONSABILE
A4: Provvedimenti ampliativi della sfera giuridica dei destinatari PRIVI di effetto economico diretto ed immediato per il destinatario: AUTORIZZAZIONI E CONCESSIONI | B4: 1 | C4: Iscrizioni, trasferimenti, cancellazioni | D4: 1.1 | E4: Concessione istanza | F4: Consiglio | G4: Vincolata | H4: Normativa/ Regolamento interno dell’Ufficio | I4: abuso nell’adozione di provvedimenti aventi ad oggetto condizioni di accesso a servizi pubblici al fine di agevolare particolari soggetti | J4: mancanza di controlli relativi agli eventi rischiosi - mancanza di trasparenza - esercizio prolungato ed esclusivo della responsabilità di un processo da parte di pochi o di un unico soggetto | K4: Alto | L4: Bassa | M4: Medio | N4: Normativa di riferimento Linee guida del CN Protocollo informatico Valutazione collegiale | O4: 1. verifica dell'avvio dell'istruttoria a cura del dirigente/consigliere Segretario 2. rispetto dei termini procedimentali | P4: N. 1 DI CONTROLLO N. 1 DI REGOLAMENTAZIONE | Q4: IN ATTUAZIONE | R4: 46387 | S4: numero di controlli effettuati su numero di pratiche/provvedimenti/etc | T4: Annuale | U4: Consiglio/Consigliere Segretario
B5: 2 | C5: Rilascio di certificazioni e attestazioni | D5: 2.1 | E5: Per es: Riconoscimento Attribuzione CFP Esonero obbligo formativo Patrocinio gratuito Rilascio certificati compiuto tirocinio | F5: Presidente-Consigliere Segretario | G5: Vincolata | H5: Normativa/ Regolamento interno dell’Ufficio | I5: abuso nel rilascio di autorizzazioni in ambiti in cui il pubblico ufficio ha funzioni esclusive o preminenti di controllo al fine di agevolare determinati soggetti | J5: mancanza di controlli relativi agli eventi rischiosi - mancanza di trasparenza - esercizio prolungato ed esclusivo della responsabilità di un processo da parte di pochi o di un unico soggetto | K5: Alto | L5: Bassa | M5: Medio | N5: Protocollo informatico | O5: 1. verifica dell'avvio dell'istruttoria a cura del dirigente/consigliere 2. rispetto dei termini procedimentali | P5: N. 1 DI CONTROLLO N. 1 DI REGOLAMENTAZIONE | Q5: IN ATTUAZIONE | R5: 46387 | S5: numero di controlli effettuati su numero di pratiche/provvedimenti/etc | T5: Annuale | U5: Consiglio/Consigliere Segretario
G7: Azioni riconducibili ad attività di altri o a soggetti esterni
C8: Azioni riconducibili ad attività di altri | F8: NA | G8: Non Applicabile
F9: NI | G9: Non Individuata

Sheet Mappatura processi C-D
A1: Mappatura PROCESSI-ATTIVITA' | I1: Identificazione, analisi e valutazione del rischio corruttivo | N1: TRATTAMENTO DEL RISCHIO
A2: AREA DI RISCHIO | B2: N. PROCESSO | C2: DESCRIZIONE PROCESSO | D2: N_Attività | E2: DESCRIZIONE ATTIVITA' | F2: Esecutore Azione (in ogni cella è presente un menù a tendina) | G2: Attività vincolata vs attività discrezionale | H2: Tipologia di attività (Disciplinata da /*scelta da menù a tendina*/) | I2: DESCRIZIONE DEL COMPORTAMENTO A RISCHIO CORRUZIONE (EVENTO A RISCHIO) | J2: FATTORI ABILITANTI L'EVENTO RISCHIOSO | K2: VALUTAZIONE DEL RISCHIO | N2: MISURE GIA' ADOTTATE | O2: MISURE SPECIFICHE | P2: TIPOLOGIA MISURE SPECIFICHE | Q2: PROGRAMMAZIONE MISURA SPECIFICA
K3: IMPATTO | L3: PROBABILITA' | M3: RISULTATO (IMPATTO x PROBABILITA') | Q3: STATO DI ATTUAZIONE AL 1° GENNAIO 2026 | R3: TEMPI DI ATTUAZIONE | S3: INDICATORI DI ATTUAZIONE | T3: TEMPI DI MONITORAGGIO | U3: SOGGETTO RESPONSABILE
A4: Provvedimenti ampliativi della sfera giuridica: CONTRIBUTI E SOVVENZIONI dei destinatari CON effetto economico diretto ed immediato per il destinatario | B4: 1 | C4: Erogazione di sovvenzioni e contributi | D4: 1.1 | E4: Verifica della necessità/opportunità di erogare importi | F4: Consiglio | G4: Discrezionale | H4: Regolamento interno dell’Ufficio | I4: Erogazione irregolare dei contributi Utilizzo di dichiarazioni/attestazioni false o non veritiere per comprovare il possesso dei requisiti per poter partecipare alla procedura per il conferimento di vantaggi economici diretti | J4: mancanza di controlli relativi agli eventi rischiosi - scarsa responsabilizzazione interna - inadeguata diffusione della cultura della legalità | K4: Alto | L4: Alta | M4: Alto | N4: Verifica capienza bilancio del Tesoriere Decisione collegiale | O4: Trasparenza tramite Pubblicazione in AT Report annuali al Consiglio Verifiche a campione sulla veridicità/correttezza delle dichiarazioni/attestazioni Verifiche svolte a cura di più dipendenti | P4: DI TRASPARENZA DI CONTROLLO | Q4: in attuazione | R4: 46387 | S4: presenza o meno di un determinato atto/dato/informazione oggetto di pubblicazione | T4: Annuale | U4: Tesoriere
G6: Azioni riconducibili ad attività di altri o a soggetti esterni
C7: Azioni riconducibili ad attività di altri | F7: NA | G7: Non Applicabile
F8: NI | G8: Non Individuata

Sheet Mappatura processi S-A
A1: Mappatura PROCESSI-ATTIVITA' | I1: Identificazione, analisi e valutazione del rischio corruttivo | N1: TRATTAMENTO DEL RISCHIO
A2: AREA DI RISCHIO | B2: N. PROCESSO | C2: DESCRIZIONE PROCESSO | D2: N_Attività | E2: DESCRIZIONE ATTIVITA' | F2: Esecutore Azione (in ogni cella è presente un menù a tendina) | G2: Attività vincolata vs attività discrezionale | H2: Tipologia di attività (Disciplinata da /*scelta da menù a tendina*/) | I2: DESCRIZIONE DEL COMPORTAMENTO A RISCHIO CORRUZIONE (EVENTO A RISCHIO) | J2: FATTORI ABILITANTI L'EVENTO RISCHIOSO | K2: VALUTAZIONE DEL RISCHIO | N2: MISURE GIA' ADOTTATE | O2: MISURE SPECIFICHE | P2: TIPOLOGIA MISURE SPECIFICHE | Q2: PROGRAMMAZIONE MISURA SPECIFICA
K3: IMPATTO | L3: PROBABILITA' | M3: RISULTATO (IMPATTO x PROBABILITA') | Q3: STATO DI ATTUAZIONE AL 1° GENNAIO 2026 | R3: TEMPI DI ATTUAZIONE | S3: INDICATORI DI ATTUAZIONE | T3: TEMPI DI MONITORAGGIO | U3: SOGGETTO RESPONSABILE
A4: FORMAZIONE PROFESSIONALE CONTINUA | B4: 1 | C4: Esame e valutazione delle offerte formative | D4: 1_1 | E4: Ricezione delle richieste di autorizzazione / ricezione proposte formative | F4: Funzionario | G4: Descrizionale | H4: Normativa/ Regolamento interno dell’Ufficio | I4: Valutazione discrezionale | J4: mancanza di controlli relativi agli eventi rischiosi | K4: Alto | L4: Media | M4: Alto | N4: Protocollo informatico Regolamento formazione CN Istruttoria intermedia Approvazione collegiale | O4: 1. adeguata verbalizzazione della attività svolte 2. report periodici al Consiglio 3. motivazione specifica delle scelte regolatorie assunte e di eventuali scostamenti da precedenti orientamenti | P4: 1 DI TRASPARENZA 2 DI REGOLAMENTAZIONE 3 DI CONTROLLO | Q4: In attuazione | R4: 46387 | S4: numero di controlli effettuati su numero di pratiche/provvedimenti/etc | T4: Annuale | U4: Consiglio
D6: 1_2 | E6: Esame da parte dei Consiglieri Delegati - attività istruttoria | F6: Dirigente-Commissione | G6: Discrezionale | H6: Normativa/ Regolamento interno dell’Ufficio | I6: Valutazione discrezionale | J6: esercizio prolungato ed esclusivo della responsabilità di un processo da parte di pochi o di un unico soggetto
D8: 1_3 | E8: Deliberazione del Consiglio | F8: Consiglio | G8: Discrezionale | H8: Normativa/ Regolamento interno dell’Ufficio | I8: Valutazione discrezionale | J8: mancanza di trasparenza
B9: 2 | C9: Attribuzione dei crediti formativi professionali (CFP) agli iscritti | D9: 2_1 | E9: Attribuzione dei crediti formativi | F9: Funzionario | G9: Vincolata | H9: Prassi dell’Ufficio | I9: Agevolazione di un iscritto rispetto ad un altro | J9: esercizio prolungato ed esclusivo della responsabilità di un processo da parte di pochi o di un unico soggetto | K9: Alto | L9: Bassa | M9: Medio | N9: Regolamento CN Informatizzazione del processo istruttorio e/o utilizzo di un gestionale per il monitoraggio delle attività | O9: Rotazione delle attività tra il personale assegnato all'ufficio/tra i consiglieri | P9: MISURA DI REGOLAMENTAZIONE | Q9: in attuazione | R9: 46387 | S9: numero di controlli effettuati su numero di pratiche/provvedimenti/etc | T9: Annuale | U9: Consiglio
D10: 2_2 | E10: Verifica sul conseguimento dei crediti formativi | F10: Dirigente/Funzionario | G10: Vincolata | H10: Prassi dell’Ufficio | I10: Agevolazione di un iscritto rispetto ad un altro | J10: esercizio prolungato ed esclusivo della responsabilità di un processo da parte di pochi o di un unico soggetto
B11: 3 | C11: Vigilanza sugli “enti terzi” autorizzati all’erogazione della formazione ai sensi dell’art. 7, co. 2, d.p.r. 137 del 2012, svolta in proprio da dagli ordini e collegi territoriali | D11: 3_1 | E11: Controllo dei requisiti di affidabilità e competenza | F11: Consiglio | G11: Vincolata | H11: Prassi dell’Ufficio | I11: Inappropriata valutazione del soggetto esterno | J11: mancanza di controlli relativi agli eventi rischiosi - mancanza di trasparenza | K11: Alto | L11: Bassa | M11: Medio | N11: Regolamento Nazionale | O11: 1. Sottoscrizione da parte di dichiarazioni relative all'assenza di conflitto di interessi anche potenziale 2. Report periodici al Consiglio | P11: 1 DI CONFLITTO DI INTERESSI 2 DI REGOLAMENTAZIONE | Q11: in attuazione | R11: 46387 | S11: numero di controlli effettuati su numero di pratiche/provvedimenti/etc | T11: Annuale | U11: Consiglio
D12: 3_2 | E12: Rendiconto all'esito dell'evento | F12: =F11 -> Consiglio | G12: Vincolata | H12: Prassi dell’Ufficio | I12: Inappropriata valutazione del soggetto esterno | J12: mancanza di controlli relativi agli eventi rischiosi
B13: 4 | C13: Organizzazione e svolgimento di eventi formativi da parte degli ordini e collegi territoriali | D13: 4_1 | E13: Deliberazione del fabbisogno formativo | F13: Consiglio | G13: Discrezionale | H13: Prassi dell’Ufficio | I13: Mancato o inappropriato rispetto del regolamento e linee guida sulla strutturazione didattica degli eventi | J13: mancata attuazione del principio di distinzione tra politica e amministrazione | K13: Alto | L13: Media | M13: Alto | N13: Regolamento Nazionale Condivisione, attraverso risorse di rete, della documentazione Decisione collegiale | O13: 1. Report periodici al Consiglio 2. verifica della effettiva rotazione degli affidamenti | P13: 1. DI REGOLAMENTAZIONE 2. DI ROTAZIONE | Q13: in attuazione | R13: 46387 | S13: verifica adozione di un determinato regolamento/procedura | T13: Annuale | U13: Consiglio
D14: 4_2 | E14: Istruttoria e valutazione (individuazione docente, individuazione sede o piattaforma online, individuazione prezzo) | F14: Commissione / Consiglio | G14: Discrezionale | H14: Prassi dell’Ufficio | I14: Mancato o inappropriato rispetto del regolamento e linee guida sulla strutturazione didattica degli eventi | J14: inadeguata diffusione della cultura della legalità
D15: 4_3 | E15: Fase conclusiva (Verifica presenze e rilascio test di apprendimento, Somministrazione questionario sulla qualità dell’evento) | F15: Dirigente/Funzionario | G15: Discrezionale | H15: Prassi dell’Ufficio | I15: Mancato o inappropriato rispetto del regolamento e linee guida sulla strutturazione didattica degli eventi | J15: mancanza di trasparenza
M16: =CONCATENATE(Parametri!D109,Parametri!E109,Parametri!F109)
M17: =CONCATENATE(Parametri!D110,Parametri!E110,Parametri!F110)
M18: =CONCATENATE(Parametri!D111,Parametri!E111,Parametri!F111)
M19: =CONCATENATE(Parametri!D112,Parametri!E112,Parametri!F112)
M20: =CONCATENATE(Parametri!D113,Parametri!E113,Parametri!F113)
M21: =CONCATENATE(Parametri!D114,Parametri!E114,Parametri!F114)
M22: =CONCATENATE(Parametri!D115,Parametri!E115,Parametri!F115)
M23: =CONCATENATE(Parametri!D116,Parametri!E116,Parametri!F116)
M24: =CONCATENATE(Parametri!D117,Parametri!E117,Parametri!F117)
M25: =CONCATENATE(Parametri!D118,Parametri!E118,Parametri!F118)
M26: =CONCATENATE(Parametri!D119,Parametri!E119,Parametri!F119)
M27: =CONCATENATE(Parametri!D120,Parametri!E120,Parametri!F120)
... M33: =CONCATENATE(Parametri!D126,Parametri!E126,Parametri!F126)
B35: Azioni riconducibili ad attività di altri o a soggetti esterni
A36: NA | B36: Non Applicabile
A37: NI | B37: Non Individuata

Sheet Mappatura processi S-B
A1: Mappatura PROCESSI-FASI-ATTIVITA'/AZIONI | I1: Identificazione, analisi e valutazione del rischio corruttivo | N1: TRATTAMENTO DEL RISCHIO
A2: AREA DI RISCHIO | B2: N. ATTIVITA' | C2: DESCRIZIONE PROCESSO | D2: N_Attività | E2: DESCRIZIONE ATTIVITA' | F2: Esecutore Azione (in ogni cella è presente un menù a tendina) | G2: Attività vincolata vs attività discrezionale | H2: Tipologia di attività (Disciplinata da /*scelta da menù a tendina*/) | I2: DESCRIZIONE DEL COMPORTAMENTO A RISCHIO CORRUZIONE (EVENTO A RISCHIO) | J2: FATTORI ABILITANTI L'EVENTO RISCHIOSO | K2: VALUTAZIONE DEL RISCHIO | N2: MISURE GIA' ADOTTATE | O2: MISURE SPECIFICHE | P2: TIPOLOGIA MISURE SPECIFICHE | Q2: PROGRAMMAZIONE MISURA SPECIFICA
K3: IMPATTO | L3: PROBABILITA' | M3: RISULTATO (IMPATTO x PROBABILITA') | Q3: STATO DI ATTUAZIONE AL 1° GENNAIO 2026 | R3: TEMPI DI ATTUAZIONE | S3: INDICATORI DI ATTUAZIONE | T3: TEMPI DI MONITORAGGIO | U3: SOGGETTO RESPONSABILE
A4: RILASCIO PARERI DI CONGRUITA' | B4: 1 | C4: Rilascio pareri di congruità | D4: 1.1. | E4: Esame e valutazione della documentazione consegnata | F4: Consiglio | G4: Discrezionale | H4: Normativa/ Regolamento interno dell’Ufficio | I4: effettuazione di una istruttoria lacunosa e/o parziale per favorire l’interesse del professionista | J4: esercizio prolungato ed esclusivo della responsabilità di un processo da parte di pochi o di un unico soggetto | K4: Alto | L4: Bassa | M4: Medio | N4: Verifica istruttoria Collegiale Delibera consiliare di approvazione | O4: 1. Adozione regolamento/stesura di linee guida di carattere metodologico per l'elaborazione dei dati e per la standardizzazione dell'esame dei singoli casi 2. rotazione dei soggetti che istruiscono le domande 3. report periodici al Consiglio | P4: 1. DI REGOLAMENTAZIONE 2. DI ROTAZIONE 3. DI REGOLAMENTAZIONE | Q4: in attuazione | R4: 46387 | S4: verifica adozione di un determinato regolamento/procedura | T4: Annuale | U4: Consiglio
D5: 1.2 | E5: Formalizzazione parere | F5: Consiglio | G5: Discrezionale | H5: Normativa/ Regolamento interno dell’Ufficio | I5: incertezza nei criteri di quantificazione degli onorari professionali-valutazione discrezionale | J5: esercizio prolungato ed esclusivo della responsabilità di un processo da parte di pochi o di un unico soggetto
D6: 1.3 | E6: Comunicazione al professionista | F6: Consiglio | G6: Discrezionale | H6: Normativa/ Regolamento interno dell’Ufficio | I6: Alterazione/sottrazione documentazione | J6: scarsa responsabilizzazione interna
N7: Duplice valutazione istruttoria del dirigente e del funzionario preposto (firma congiunta del dirigente e del funzionario) | P7: Misura di controllo / trasparenzza | Q7: in attuazione
N8: rotazione dei soggetti che istruiscono le domande
K10: Azioni riconducibili ad attività di altri o a soggetti esterni
F11: Azioni riconducibili ad attività di altri | J11: NA | K11: Non Applicabile
J12: NI | K12: Non Individuata

Sheet Mappatura processi S-C
A1: Mappatura PROCESSI-ATTIVITA' | I1: Identificazione, analisi e valutazione del rischio corruttivo | N1: TRATTAMENTO DEL RISCHIO
A2: AREA DI RISCHIO | B2: N. PROCESSO | C2: DESCRIZIONE PROCESSO | D2: N_Attività | E2: DESCRIZIONE ATTIVITA' | F2: Esecutore Azione (in ogni cella è presente un menù a tendina) | G2: Attività vincolata vs attività discrezionale | H2: Tipologia di attività (Disciplinata da /*scelta da menù a tendina*/) | I2: DESCRIZIONE DEL COMPORTAMENTO A RISCHIO CORRUZIONE (EVENTO A RISCHIO) | J2: FATTORI ABILITANTI L'EVENTO RISCHIOSO | K2: VALUTAZIONE DEL RISCHIO | N2: MISURE GIA' ADOTTATE | O2: MISURE SPECIFICHE | P2: TIPOLOGIA MISURE SPECIFICHE | Q2: PROGRAMMAZIONE MISURA SPECIFICA
